BEGIN:VCALENDAR
VERSION:2.0
PRODID:-//South Carolina Society of Professional Engineers - ECPv6.15.20//NONSGML v1.0//EN
CALSCALE:GREGORIAN
METHOD:PUBLISH
X-WR-CALNAME:South Carolina Society of Professional Engineers
X-ORIGINAL-URL:https://scspe.org
X-WR-CALDESC:Events for South Carolina Society of Professional Engineers
REFRESH-INTERVAL;VALUE=DURATION:PT1H
X-Robots-Tag:noindex
X-PUBLISHED-TTL:PT1H
BEGIN:VTIMEZONE
TZID:America/New_York
BEGIN:DAYLIGHT
TZOFFSETFROM:-0500
TZOFFSETTO:-0400
TZNAME:EDT
DTSTART:20220313T070000
END:DAYLIGHT
BEGIN:STANDARD
TZOFFSETFROM:-0400
TZOFFSETTO:-0500
TZNAME:EST
DTSTART:20221106T060000
END:STANDARD
BEGIN:DAYLIGHT
TZOFFSETFROM:-0500
TZOFFSETTO:-0400
TZNAME:EDT
DTSTART:20230312T070000
END:DAYLIGHT
BEGIN:STANDARD
TZOFFSETFROM:-0400
TZOFFSETTO:-0500
TZNAME:EST
DTSTART:20231105T060000
END:STANDARD
BEGIN:DAYLIGHT
TZOFFSETFROM:-0500
TZOFFSETTO:-0400
TZNAME:EDT
DTSTART:20240310T070000
END:DAYLIGHT
BEGIN:STANDARD
TZOFFSETFROM:-0400
TZOFFSETTO:-0500
TZNAME:EST
DTSTART:20241103T060000
END:STANDARD
END:VTIMEZONE
BEGIN:VEVENT
DTSTART;VALUE=DATE:20230103
DTEND;VALUE=DATE:20230104
DTSTAMP:20260421T151404
CREATED:20220805T103509Z
LAST-MODIFIED:20220805T103521Z
UID:3689-1672704000-1672790399@scspe.org
SUMMARY:SCSPE Columbia Chapter Meeting Tentative
DESCRIPTION:
URL:https://scspe.org/event/scspe-columbia-chapter-meeting-tentative-3/
END:VEVENT
BEGIN:VEVENT
DTSTART;VALUE=DATE:20230106
DTEND;VALUE=DATE:20230107
DTSTAMP:20260421T151404
CREATED:20220805T103555Z
LAST-MODIFIED:20220805T103555Z
UID:3691-1672963200-1673049599@scspe.org
SUMMARY:SCSPE Executive Committee Meeting
DESCRIPTION:
URL:https://scspe.org/event/scspe-executive-committee-meeting/
END:VEVENT
BEGIN:VEVENT
DTSTART;VALUE=DATE:20230109
DTEND;VALUE=DATE:20230110
DTSTAMP:20260421T151404
CREATED:20220805T103713Z
LAST-MODIFIED:20220805T103713Z
UID:3693-1673222400-1673308799@scspe.org
SUMMARY:SCSPE Piedmont Chapter Meeting
DESCRIPTION:
URL:https://scspe.org/event/scspe-piedmont-chapter-meeting-4/
LOCATION:Hilton Greenville\, 45 W Orchard Park Dr\, Greenville\, SC\, 29615\, United States
END:VEVENT
BEGIN:VEVENT
DTSTART;VALUE=DATE:20230110
DTEND;VALUE=DATE:20230111
DTSTAMP:20260421T151404
CREATED:20220805T103738Z
LAST-MODIFIED:20220805T103738Z
UID:3695-1673308800-1673395199@scspe.org
SUMMARY:SC General Assembly Convenes
DESCRIPTION:
URL:https://scspe.org/event/sc-general-assembly-convenes/
END:VEVENT
BEGIN:VEVENT
DTSTART;VALUE=DATE:20230111
DTEND;VALUE=DATE:20230112
DTSTAMP:20260421T151404
CREATED:20220805T074605Z
LAST-MODIFIED:20220805T093056Z
UID:3090-1673395200-1673481599@scspe.org
SUMMARY:SC Engineers Day on the Hill
DESCRIPTION:
URL:https://scspe.org/event/sc-engineers-day-on-the-hill-2/
LOCATION:South Carolina State House\, 1100 Gervais Street\, Columbia\, 29201\, United States
END:VEVENT
BEGIN:VEVENT
DTSTART;VALUE=DATE:20230111
DTEND;VALUE=DATE:20230112
DTSTAMP:20260421T151404
CREATED:20220805T103833Z
LAST-MODIFIED:20220805T103844Z
UID:3697-1673395200-1673481599@scspe.org
SUMMARY:SC Engineers Day Statewide
DESCRIPTION:
URL:https://scspe.org/event/sc-engineers-day/
END:VEVENT
BEGIN:VEVENT
DTSTART;VALUE=DATE:20230111
DTEND;VALUE=DATE:20230112
DTSTAMP:20260421T151404
CREATED:20220805T103907Z
LAST-MODIFIED:20220805T103907Z
UID:3700-1673395200-1673481599@scspe.org
SUMMARY:Design Construction Partnership Legislative Reception
DESCRIPTION:
URL:https://scspe.org/event/design-construction-partnership-legislative-reception/
LOCATION:Palmetto Club\, Columbia\, SC\, United States
END:VEVENT
BEGIN:VEVENT
DTSTART;VALUE=DATE:20230113
DTEND;VALUE=DATE:20230114
DTSTAMP:20260421T151404
CREATED:20220805T103955Z
LAST-MODIFIED:20220805T104007Z
UID:3702-1673568000-1673654399@scspe.org
SUMMARY:Newly Licensed Engineers Ceremony Tentative
DESCRIPTION:With SCSPE’s assistance
URL:https://scspe.org/event/newly-licensed-engineers-ceremony-tentative/
END:VEVENT
END:VCALENDAR