BEGIN:VCALENDAR
VERSION:2.0
PRODID:-//South Carolina Society of Professional Engineers - ECPv6.15.20//NONSGML v1.0//EN
CALSCALE:GREGORIAN
METHOD:PUBLISH
X-WR-CALNAME:South Carolina Society of Professional Engineers
X-ORIGINAL-URL:https://scspe.org
X-WR-CALDESC:Events for South Carolina Society of Professional Engineers
REFRESH-INTERVAL;VALUE=DURATION:PT1H
X-Robots-Tag:noindex
X-PUBLISHED-TTL:PT1H
BEGIN:VTIMEZONE
TZID:America/New_York
BEGIN:DAYLIGHT
TZOFFSETFROM:-0500
TZOFFSETTO:-0400
TZNAME:EDT
DTSTART:20210314T070000
END:DAYLIGHT
BEGIN:STANDARD
TZOFFSETFROM:-0400
TZOFFSETTO:-0500
TZNAME:EST
DTSTART:20211107T060000
END:STANDARD
BEGIN:DAYLIGHT
TZOFFSETFROM:-0500
TZOFFSETTO:-0400
TZNAME:EDT
DTSTART:20220313T070000
END:DAYLIGHT
BEGIN:STANDARD
TZOFFSETFROM:-0400
TZOFFSETTO:-0500
TZNAME:EST
DTSTART:20221106T060000
END:STANDARD
BEGIN:DAYLIGHT
TZOFFSETFROM:-0500
TZOFFSETTO:-0400
TZNAME:EDT
DTSTART:20230312T070000
END:DAYLIGHT
BEGIN:STANDARD
TZOFFSETFROM:-0400
TZOFFSETTO:-0500
TZNAME:EST
DTSTART:20231105T060000
END:STANDARD
END:VTIMEZONE
BEGIN:VTIMEZONE
TZID:UTC
BEGIN:STANDARD
TZOFFSETFROM:+0000
TZOFFSETTO:+0000
TZNAME:UTC
DTSTART:20210101T000000
END:STANDARD
END:VTIMEZONE
BEGIN:VEVENT
DTSTART;VALUE=DATE:20221202
DTEND;VALUE=DATE:20221203
DTSTAMP:20260421T015016
CREATED:20220805T102933Z
LAST-MODIFIED:20220805T102933Z
UID:3683-1669939200-1670025599@scspe.org
SUMMARY:SCSPE Board Meeting
DESCRIPTION:
URL:https://scspe.org/event/scspe-board-meeting/
END:VEVENT
BEGIN:VEVENT
DTSTART;TZID=America/New_York:20221129T090000
DTEND;TZID=America/New_York:20221130T120000
DTSTAMP:20260421T015016
CREATED:20220805T102907Z
LAST-MODIFIED:20220819T134448Z
UID:3681-1669712400-1669809600@scspe.org
SUMMARY:Fall Symposium Virtual - 2 Days
DESCRIPTION:Nov 29-30
URL:https://scspe.org/event/fall-symposium-virtual/
END:VEVENT
BEGIN:VEVENT
DTSTART;VALUE=DATE:20221115
DTEND;VALUE=DATE:20221116
DTSTAMP:20260421T015016
CREATED:20220805T102638Z
LAST-MODIFIED:20220805T102638Z
UID:3675-1668470400-1668556799@scspe.org
SUMMARY:IRS 990 (Chapter filings) due
DESCRIPTION:
URL:https://scspe.org/event/irs-990-chapter-filings-due/
END:VEVENT
BEGIN:VEVENT
DTSTART;VALUE=DATE:20221114
DTEND;VALUE=DATE:20221115
DTSTAMP:20260421T015016
CREATED:20220805T102211Z
LAST-MODIFIED:20220805T110148Z
UID:3664-1668384000-1668470399@scspe.org
SUMMARY:SCSPE Piedmont Chapter Meeting Tentative
DESCRIPTION:
URL:https://scspe.org/event/scspe-columbia-chapter-meeting-tentative/
END:VEVENT
BEGIN:VEVENT
DTSTART;TZID=America/New_York:20221109T090000
DTEND;TZID=America/New_York:20221109T160000
DTSTAMP:20260421T015016
CREATED:20220805T102800Z
LAST-MODIFIED:20220819T133731Z
UID:3679-1667984400-1668009600@scspe.org
SUMMARY:SCSPE Fall Symposium Greenville
DESCRIPTION:Jeanne d’Orleans (topics to come)
URL:https://scspe.org/event/scspe-fall-symposium-greenville/
END:VEVENT
BEGIN:VEVENT
DTSTART;TZID=America/New_York:20221107T090000
DTEND;TZID=America/New_York:20221107T160000
DTSTAMP:20260421T015016
CREATED:20220805T102728Z
LAST-MODIFIED:20220819T133556Z
UID:3677-1667811600-1667836800@scspe.org
SUMMARY:SCSPE Fall Symposium Rock Hill
DESCRIPTION:Jeanne d’Orleans (topics to come)
URL:https://scspe.org/event/scspe-fall-symposium-rock-hill/
END:VEVENT
BEGIN:VEVENT
DTSTART;VALUE=DATE:20221107
DTEND;VALUE=DATE:20221108
DTSTAMP:20260421T015016
CREATED:20220805T102426Z
LAST-MODIFIED:20220805T102426Z
UID:3669-1667779200-1667865599@scspe.org
SUMMARY:SCSPE Columbia Chapter Meeting Tentative
DESCRIPTION:
URL:https://scspe.org/event/scspe-columbia-chapter-meeting-tentative-2/
LOCATION:Senate’s End\, 316 Senate Street\, Columbia\, SC\, 29201\, United States
END:VEVENT
BEGIN:VEVENT
DTSTART;TZID=America/New_York:20221104T100000
DTEND;TZID=America/New_York:20221104T100000
DTSTAMP:20260421T015016
CREATED:20220805T102606Z
LAST-MODIFIED:20220805T102606Z
UID:3673-1667556000-1667556000@scspe.org
SUMMARY:Executive Committee Meeting Conference Call
DESCRIPTION:
URL:https://scspe.org/event/executive-committee-meeting-conference-call/
END:VEVENT
BEGIN:VEVENT
DTSTART;TZID=America/New_York:20221101T093000
DTEND;TZID=America/New_York:20221101T170000
DTSTAMP:20260421T015016
CREATED:20220805T102401Z
LAST-MODIFIED:20220805T102401Z
UID:3667-1667295000-1667322000@scspe.org
SUMMARY:SC Board of Registration for Engineering and Surveying Meeting
DESCRIPTION:
URL:https://scspe.org/event/sc-board-of-registration-for-engineering-and-surveying-meeting/
LOCATION:Synergy Business Park – Kingstree Building\, Suite 105\, 110 Centerview Drive\, Columbia\, SC\, 29210\, United States
END:VEVENT
BEGIN:VEVENT
DTSTART;VALUE=DATE:20221101
DTEND;VALUE=DATE:20221102
DTSTAMP:20260421T015016
CREATED:20220805T102511Z
LAST-MODIFIED:20220805T102511Z
UID:3671-1667260800-1667347199@scspe.org
SUMMARY:SCCESS Dinner w/ SC Registration Board Tentative
DESCRIPTION:
URL:https://scspe.org/event/sccess-dinner-w-sc-registration-board-tentative/
END:VEVENT
BEGIN:VEVENT
DTSTART;VALUE=DATE:20221022
DTEND;VALUE=DATE:20221023
DTSTAMP:20260421T015016
CREATED:20220805T102004Z
LAST-MODIFIED:20220805T102004Z
UID:3662-1666396800-1666483199@scspe.org
SUMMARY:Pizza with PEs Tentaive
DESCRIPTION:Pizza with PEs\nUofSC/SCSPE HQ
URL:https://scspe.org/event/pizza-with-pes-tentaive/
END:VEVENT
BEGIN:VEVENT
DTSTART;VALUE=DATE:20221012
DTEND;VALUE=DATE:20221013
DTSTAMP:20260421T015016
CREATED:20220805T101932Z
LAST-MODIFIED:20220805T101932Z
UID:3660-1665532800-1665619199@scspe.org
SUMMARY:SCSPE Chapter Meetings (Virtual) Tentative
DESCRIPTION:Cybersecurity w/ IronSafe
URL:https://scspe.org/event/scspe-chapter-meetings-virtual-tentative/
END:VEVENT
BEGIN:VEVENT
DTSTART;VALUE=DATE:20221010
DTEND;VALUE=DATE:20221011
DTSTAMP:20260421T015016
CREATED:20220715T110054Z
LAST-MODIFIED:20220805T110036Z
UID:1745-1665360000-1665446399@scspe.org
SUMMARY:SCSPE Piedmont Chapter Meeting Tentative
DESCRIPTION:
URL:https://scspe.org/event/scspe-piedmont-chapter-meeting-2/
LOCATION:Hilton Greenville\, 45 W Orchard Park Dr\, Greenville\, SC\, 29615\, United States
END:VEVENT
BEGIN:VEVENT
DTSTART;TZID=America/New_York:20221007T100000
DTEND;TZID=America/New_York:20221007T100000
DTSTAMP:20260421T015016
CREATED:20220710T080246Z
LAST-MODIFIED:20220805T101649Z
UID:3244-1665136800-1665136800@scspe.org
SUMMARY:SCSPE Executive Committee Conference Call
DESCRIPTION:
URL:https://scspe.org/event/scspe-executive-committee-conference-call-10/
END:VEVENT
BEGIN:VEVENT
DTSTART;VALUE=DATE:20221003
DTEND;VALUE=DATE:20221004
DTSTAMP:20260421T015016
CREATED:20220804T083258Z
LAST-MODIFIED:20220805T101410Z
UID:3323-1664755200-1664841599@scspe.org
SUMMARY:SCSPE Columbia Chapter Meeting Tentative
DESCRIPTION:
URL:https://scspe.org/event/scspe-columbia-chapter-meeting-36/
LOCATION:Seawell’s\, Columbia\, SC\, United States
END:VEVENT
BEGIN:VEVENT
DTSTART;TZID=America/New_York:20220920T093000
DTEND;TZID=America/New_York:20220920T170000
DTSTAMP:20260421T015016
CREATED:20220804T080158Z
LAST-MODIFIED:20220805T101436Z
UID:3242-1663666200-1663693200@scspe.org
SUMMARY:SC Board of Registration for Engineering and Surveying Meeting
DESCRIPTION:Probably Virtual\nAlso September 21\, 2022 if needed
URL:https://scspe.org/event/sc-board-of-registration-for-engineering-and-surveying-meeting-8/
LOCATION:Kingstree Building\, Room 105\, Columbia\, SC\, United States
END:VEVENT
BEGIN:VEVENT
DTSTART;VALUE=DATE:20220912
DTEND;VALUE=DATE:20220913
DTSTAMP:20260421T015016
CREATED:20220804T105504Z
LAST-MODIFIED:20220805T101023Z
UID:1732-1662940800-1663027199@scspe.org
SUMMARY:SCSPE Piedmont Chapter Meeting Tentative
DESCRIPTION:
URL:https://scspe.org/event/scspe-piedmont-chapter-meeting/
LOCATION:Hilton Greenville\, 45 W Orchard Park Dr\, Greenville\, SC\, 29615\, United States
END:VEVENT
BEGIN:VEVENT
DTSTART;VALUE=DATE:20220912
DTEND;VALUE=DATE:20220913
DTSTAMP:20260421T015016
CREATED:20220804T104950Z
LAST-MODIFIED:20220805T100738Z
UID:1726-1662940800-1663027199@scspe.org
SUMMARY:SCSPE Columbia Chapter Meeting Tentative
DESCRIPTION:
URL:https://scspe.org/event/scspe-columbia-chapter-meeting/
END:VEVENT
BEGIN:VEVENT
DTSTART;VALUE=DATE:20220902
DTEND;VALUE=DATE:20220903
DTSTAMP:20260421T015016
CREATED:20220804T081536Z
LAST-MODIFIED:20220805T100159Z
UID:3274-1662076800-1662076800@scspe.org
SUMMARY:SCSPE Board Meeting
DESCRIPTION:
URL:https://scspe.org/event/scspe-board-meeting-8/
LOCATION:AECOM\, Columbia\, SC\, United States
END:VEVENT
BEGIN:VEVENT
DTSTART;TZID=UTC:20220805T100000
DTEND;TZID=UTC:20220805T100000
DTSTAMP:20260421T015016
CREATED:20220805T054917Z
LAST-MODIFIED:20220805T094826Z
UID:1724-1659693600-1659693600@scspe.org
SUMMARY:SCSPE Executive Committee Conference Call
DESCRIPTION:
URL:https://scspe.org/event/scspe-executive-committee-conference-call/
END:VEVENT
END:VCALENDAR