BEGIN:VCALENDAR
VERSION:2.0
PRODID:-//South Carolina Society of Professional Engineers - ECPv6.15.20//NONSGML v1.0//EN
CALSCALE:GREGORIAN
METHOD:PUBLISH
X-WR-CALNAME:South Carolina Society of Professional Engineers
X-ORIGINAL-URL:https://scspe.org
X-WR-CALDESC:Events for South Carolina Society of Professional Engineers
REFRESH-INTERVAL;VALUE=DURATION:PT1H
X-Robots-Tag:noindex
X-PUBLISHED-TTL:PT1H
BEGIN:VTIMEZONE
TZID:America/New_York
BEGIN:DAYLIGHT
TZOFFSETFROM:-0500
TZOFFSETTO:-0400
TZNAME:EDT
DTSTART:20220313T070000
END:DAYLIGHT
BEGIN:STANDARD
TZOFFSETFROM:-0400
TZOFFSETTO:-0500
TZNAME:EST
DTSTART:20221106T060000
END:STANDARD
BEGIN:DAYLIGHT
TZOFFSETFROM:-0500
TZOFFSETTO:-0400
TZNAME:EDT
DTSTART:20230312T070000
END:DAYLIGHT
BEGIN:STANDARD
TZOFFSETFROM:-0400
TZOFFSETTO:-0500
TZNAME:EST
DTSTART:20231105T060000
END:STANDARD
BEGIN:DAYLIGHT
TZOFFSETFROM:-0500
TZOFFSETTO:-0400
TZNAME:EDT
DTSTART:20240310T070000
END:DAYLIGHT
BEGIN:STANDARD
TZOFFSETFROM:-0400
TZOFFSETTO:-0500
TZNAME:EST
DTSTART:20241103T060000
END:STANDARD
BEGIN:DAYLIGHT
TZOFFSETFROM:-0500
TZOFFSETTO:-0400
TZNAME:EDT
DTSTART:20250309T070000
END:DAYLIGHT
BEGIN:STANDARD
TZOFFSETFROM:-0400
TZOFFSETTO:-0500
TZNAME:EST
DTSTART:20251102T060000
END:STANDARD
END:VTIMEZONE
BEGIN:VEVENT
DTSTART;TZID=America/New_York:20240513T080000
DTEND;TZID=America/New_York:20240513T170000
DTSTAMP:20260420T161054
CREATED:20230706T185246Z
LAST-MODIFIED:20230706T185246Z
UID:3999-1715587200-1715619600@scspe.org
SUMMARY:SCSPE Piedmont Chapter Meeting
DESCRIPTION:
URL:https://scspe.org/event/scspe-piedmont-chapter-meeting-13/
END:VEVENT
BEGIN:VEVENT
DTSTART;TZID=America/New_York:20240506T080000
DTEND;TZID=America/New_York:20240506T170000
DTSTAMP:20260420T161054
CREATED:20230706T185211Z
LAST-MODIFIED:20230706T185211Z
UID:3997-1714982400-1715014800@scspe.org
SUMMARY:SCSPE Columbia Chapter Columbia Meeting
DESCRIPTION:Columbia SC
URL:https://scspe.org/event/scspe-columbia-chapter-columbia-meeting-2/
END:VEVENT
BEGIN:VEVENT
DTSTART;VALUE=DATE:20240503
DTEND;VALUE=DATE:20240504
DTSTAMP:20260420T161054
CREATED:20230706T185143Z
LAST-MODIFIED:20230706T185143Z
UID:3995-1714694400-1714780799@scspe.org
SUMMARY:SCSPE Planning Retreat with Mitchel Cooper
DESCRIPTION:
URL:https://scspe.org/event/scspe-planning-retreat-with-mitchel-cooper/
END:VEVENT
BEGIN:VEVENT
DTSTART;TZID=America/New_York:20240422T080000
DTEND;TZID=America/New_York:20240422T170000
DTSTAMP:20260420T161054
CREATED:20230706T185113Z
LAST-MODIFIED:20230706T185113Z
UID:3993-1713772800-1713805200@scspe.org
SUMMARY:SCSPE Virtual Chapter
DESCRIPTION:
URL:https://scspe.org/event/scspe-virtual-chapter/
END:VEVENT
BEGIN:VEVENT
DTSTART;VALUE=DATE:20240415
DTEND;VALUE=DATE:20240416
DTSTAMP:20260420T161054
CREATED:20230706T185036Z
LAST-MODIFIED:20230706T185036Z
UID:3991-1713139200-1713225599@scspe.org
SUMMARY:State Engineer of the Year & Young Engineer of the Year Nominations due SCSPE HQ
DESCRIPTION:
URL:https://scspe.org/event/state-engineer-of-the-year-young-engineer-of-the-year-nominations-due-scspe-hq/
END:VEVENT
BEGIN:VEVENT
DTSTART;TZID=America/New_York:20240408T080000
DTEND;TZID=America/New_York:20240408T170000
DTSTAMP:20260420T161054
CREATED:20230706T185008Z
LAST-MODIFIED:20230706T185008Z
UID:3989-1712563200-1712595600@scspe.org
SUMMARY:SCSPE Piedmont Chapter Meeting Chapter Awards (Engineer of the Year & Young Engineer of the Year)
DESCRIPTION:
URL:https://scspe.org/event/scspe-piedmont-chapter-meeting-chapter-awards-engineer-of-the-year-young-engineer-of-the-year/
END:VEVENT
BEGIN:VEVENT
DTSTART;TZID=America/New_York:20240405T080000
DTEND;TZID=America/New_York:20240405T170000
DTSTAMP:20260420T161054
CREATED:20230706T184934Z
LAST-MODIFIED:20230706T184934Z
UID:3987-1712304000-1712336400@scspe.org
SUMMARY:SCSPE Executive Committee Conference Call
DESCRIPTION:
URL:https://scspe.org/event/scspe-executive-committee-conference-call-3/
END:VEVENT
BEGIN:VEVENT
DTSTART;TZID=America/New_York:20240401T080000
DTEND;TZID=America/New_York:20240401T170000
DTSTAMP:20260420T161054
CREATED:20230706T184911Z
LAST-MODIFIED:20230706T184911Z
UID:3985-1711958400-1711990800@scspe.org
SUMMARY:SCSPE Columbia Chapter Meeting Chapter Awards (Engineer of the Year & Young Engineer of the Year)
DESCRIPTION:Columbia\, SC
URL:https://scspe.org/event/scspe-columbia-chapter-meeting-chapter-awards-engineer-of-the-year-young-engineer-of-the-year/
END:VEVENT
BEGIN:VEVENT
DTSTART;TZID=America/New_York:20240311T080000
DTEND;TZID=America/New_York:20240311T170000
DTSTAMP:20260420T161054
CREATED:20230706T184834Z
LAST-MODIFIED:20230706T184834Z
UID:3983-1710144000-1710176400@scspe.org
SUMMARY:State MathCounts Competition (Tentative)
DESCRIPTION:Aiken\, SC
URL:https://scspe.org/event/state-mathcounts-competition-tentative/
END:VEVENT
BEGIN:VEVENT
DTSTART;TZID=America/New_York:20240304T080000
DTEND;TZID=America/New_York:20240304T170000
DTSTAMP:20260420T161054
CREATED:20230706T184748Z
LAST-MODIFIED:20230706T184748Z
UID:3981-1709539200-1709571600@scspe.org
SUMMARY:SCSPE Piedmont Chapter Meeting
DESCRIPTION:
URL:https://scspe.org/event/scspe-piedmont-chapter-meeting-12/
END:VEVENT
BEGIN:VEVENT
DTSTART;TZID=America/New_York:20240301T080000
DTEND;TZID=America/New_York:20240301T170000
DTSTAMP:20260420T161054
CREATED:20230706T184725Z
LAST-MODIFIED:20230706T184725Z
UID:3979-1709280000-1709312400@scspe.org
SUMMARY:SCSPE Columbia Chapter Meeting
DESCRIPTION:Columbia\, SC
URL:https://scspe.org/event/scspe-columbia-chapter-meeting-8/
END:VEVENT
BEGIN:VEVENT
DTSTART;TZID=America/New_York:20240301T080000
DTEND;TZID=America/New_York:20240301T170000
DTSTAMP:20260420T161054
CREATED:20230706T184653Z
LAST-MODIFIED:20230706T184653Z
UID:3977-1709280000-1709312400@scspe.org
SUMMARY:SCSPE Board of Directors Meeting
DESCRIPTION:Columbia\, SC
URL:https://scspe.org/event/scspe-board-of-directors-meeting-2/
END:VEVENT
BEGIN:VEVENT
DTSTART;TZID=America/New_York:20240223T080000
DTEND;TZID=America/New_York:20240223T170000
DTSTAMP:20260420T161054
CREATED:20230706T184627Z
LAST-MODIFIED:20230706T184627Z
UID:3975-1708675200-1708707600@scspe.org
SUMMARY:Beers with Engineers – Eweek edition
DESCRIPTION:Chapters
URL:https://scspe.org/event/beers-with-engineers-eweek-edition-2/
END:VEVENT
BEGIN:VEVENT
DTSTART;TZID=America/New_York:20240221T080000
DTEND;TZID=America/New_York:20240221T170000
DTSTAMP:20260420T161054
CREATED:20230706T184551Z
LAST-MODIFIED:20230706T184551Z
UID:3973-1708502400-1708534800@scspe.org
SUMMARY:Pizza with PEs (Tentative)
DESCRIPTION:Clemson University
URL:https://scspe.org/event/pizza-with-pes-tentative-3/
END:VEVENT
BEGIN:VEVENT
DTSTART;VALUE=DATE:20240219
DTEND;VALUE=DATE:20240226
DTSTAMP:20260420T161054
CREATED:20230706T184439Z
LAST-MODIFIED:20230706T184439Z
UID:3969-1708300800-1708905599@scspe.org
SUMMARY:National Engineers’ Week
DESCRIPTION:
URL:https://scspe.org/event/national-engineers-week-2/
END:VEVENT
BEGIN:VEVENT
DTSTART;VALUE=DATE:20240218
DTEND;VALUE=DATE:20240225
DTSTAMP:20260420T161054
CREATED:20230706T184516Z
LAST-MODIFIED:20230706T184516Z
UID:3971-1708214400-1708819199@scspe.org
SUMMARY:SCSPE STEM Outreach during E-Week
DESCRIPTION:
URL:https://scspe.org/event/scspe-stem-outreach-during-e-week-2/
END:VEVENT
BEGIN:VEVENT
DTSTART;TZID=America/New_York:20240213T080000
DTEND;TZID=America/New_York:20240213T170000
DTSTAMP:20260420T161054
CREATED:20230706T184356Z
LAST-MODIFIED:20230706T184356Z
UID:3967-1707811200-1707843600@scspe.org
SUMMARY:ACEC-SC/SCSPE Winter Meeting
DESCRIPTION:
URL:https://scspe.org/event/acec-sc-scspe-winter-meeting-2/
END:VEVENT
BEGIN:VEVENT
DTSTART;TZID=America/New_York:20240212T080000
DTEND;TZID=America/New_York:20240212T170000
DTSTAMP:20260420T161054
CREATED:20230706T184330Z
LAST-MODIFIED:20230706T184330Z
UID:3965-1707724800-1707757200@scspe.org
SUMMARY:SCSPE Piedmont Chapter Meeting
DESCRIPTION:
URL:https://scspe.org/event/scspe-piedmont-chapter-meeting-11/
END:VEVENT
BEGIN:VEVENT
DTSTART;TZID=America/New_York:20240205T080000
DTEND;TZID=America/New_York:20240205T170000
DTSTAMP:20260420T161054
CREATED:20230706T184301Z
LAST-MODIFIED:20230706T184301Z
UID:3963-1707120000-1707152400@scspe.org
SUMMARY:SCSPE Columbia Chapter Meeting
DESCRIPTION:
URL:https://scspe.org/event/scspe-columbia-chapter-meeting-7/
END:VEVENT
BEGIN:VEVENT
DTSTART;TZID=America/New_York:20240202T080000
DTEND;TZID=America/New_York:20240202T170000
DTSTAMP:20260420T161054
CREATED:20230706T184235Z
LAST-MODIFIED:20230706T184235Z
UID:3961-1706860800-1706893200@scspe.org
SUMMARY:SCSPE Executive Committee Meeting
DESCRIPTION:Virtual
URL:https://scspe.org/event/scspe-executive-committee-meeting-3/
END:VEVENT
BEGIN:VEVENT
DTSTART;TZID=America/New_York:20240116T080000
DTEND;TZID=America/New_York:20240116T170000
DTSTAMP:20260420T161054
CREATED:20230706T184134Z
LAST-MODIFIED:20230706T184134Z
UID:3957-1705392000-1705424400@scspe.org
SUMMARY:SCSPE Virtual Chapter Meeting
DESCRIPTION:
URL:https://scspe.org/event/scspe-virtual-chapter-meeting/
END:VEVENT
BEGIN:VEVENT
DTSTART;TZID=America/New_York:20240110T080000
DTEND;TZID=America/New_York:20240110T170000
DTSTAMP:20260420T161054
CREATED:20230706T184158Z
LAST-MODIFIED:20230706T184158Z
UID:3959-1704873600-1704906000@scspe.org
SUMMARY:Design Construction Partnership Legislative Reception
DESCRIPTION:Palmetto Club\, Columbia\, SC
URL:https://scspe.org/event/design-construction-partnership-legislative-reception-2/
END:VEVENT
BEGIN:VEVENT
DTSTART;TZID=America/New_York:20240110T080000
DTEND;TZID=America/New_York:20240110T170000
DTSTAMP:20260420T161054
CREATED:20230706T184114Z
LAST-MODIFIED:20230706T184114Z
UID:3955-1704873600-1704906000@scspe.org
SUMMARY:SC Engineers Day
DESCRIPTION:Statewide
URL:https://scspe.org/event/sc-engineers-day-2/
END:VEVENT
BEGIN:VEVENT
DTSTART;VALUE=DATE:20240110
DTEND;VALUE=DATE:20240111
DTSTAMP:20260420T161054
CREATED:20230706T184046Z
LAST-MODIFIED:20230706T184046Z
UID:3953-1704844800-1704931199@scspe.org
SUMMARY:SC Engineers Day On the Hill
DESCRIPTION:SC State House
URL:https://scspe.org/event/sc-engineers-day-on-the-hill/
END:VEVENT
BEGIN:VEVENT
DTSTART;TZID=America/New_York:20240109T080000
DTEND;TZID=America/New_York:20240109T170000
DTSTAMP:20260420T161054
CREATED:20230706T184021Z
LAST-MODIFIED:20230706T184021Z
UID:3951-1704787200-1704819600@scspe.org
SUMMARY:SC General Assembly Convenes
DESCRIPTION:
URL:https://scspe.org/event/sc-general-assembly-convenes-2/
END:VEVENT
BEGIN:VEVENT
DTSTART;TZID=America/New_York:20240108T080000
DTEND;TZID=America/New_York:20240108T170000
DTSTAMP:20260420T161054
CREATED:20230706T184001Z
LAST-MODIFIED:20230706T184001Z
UID:3949-1704700800-1704733200@scspe.org
SUMMARY:SCSPE Piedmont Chapter Meeting
DESCRIPTION:
URL:https://scspe.org/event/scspe-piedmont-chapter-meeting-10/
END:VEVENT
BEGIN:VEVENT
DTSTART;TZID=America/New_York:20240105T100000
DTEND;TZID=America/New_York:20240105T120000
DTSTAMP:20260420T161054
CREATED:20230706T183936Z
LAST-MODIFIED:20230706T183936Z
UID:3947-1704448800-1704456000@scspe.org
SUMMARY:SCSPE Executive Committee Meeting
DESCRIPTION:Columbia\, SC
URL:https://scspe.org/event/scspe-executive-committee-meeting-2/
END:VEVENT
BEGIN:VEVENT
DTSTART;TZID=America/New_York:20231211T080000
DTEND;TZID=America/New_York:20231211T170000
DTSTAMP:20260420T161054
CREATED:20230706T183848Z
LAST-MODIFIED:20230706T183848Z
UID:3945-1702281600-1702314000@scspe.org
SUMMARY:SCSPE Piedmont Chapter Meeting
DESCRIPTION:
URL:https://scspe.org/event/scspe-piedmont-chapter-meeting-9/
END:VEVENT
BEGIN:VEVENT
DTSTART;TZID=America/New_York:20231204T080000
DTEND;TZID=America/New_York:20231204T170000
DTSTAMP:20260420T161054
CREATED:20230706T183828Z
LAST-MODIFIED:20230706T183828Z
UID:3943-1701676800-1701709200@scspe.org
SUMMARY:SCSPE Columbia Chapter Meeting
DESCRIPTION:
URL:https://scspe.org/event/scspe-columbia-chapter-meeting-4/
END:VEVENT
BEGIN:VEVENT
DTSTART;TZID=America/New_York:20231201T080000
DTEND;TZID=America/New_York:20231201T170000
DTSTAMP:20260420T161054
CREATED:20230706T183805Z
LAST-MODIFIED:20230706T183805Z
UID:3941-1701417600-1701450000@scspe.org
SUMMARY:SCSPE Board Meeting
DESCRIPTION:Columbia\, SC
URL:https://scspe.org/event/scspe-board-meeting-3/
END:VEVENT
END:VCALENDAR