BEGIN:VCALENDAR
VERSION:2.0
PRODID:-//South Carolina Society of Professional Engineers - ECPv6.15.20//NONSGML v1.0//EN
CALSCALE:GREGORIAN
METHOD:PUBLISH
X-WR-CALNAME:South Carolina Society of Professional Engineers
X-ORIGINAL-URL:https://scspe.org
X-WR-CALDESC:Events for South Carolina Society of Professional Engineers
REFRESH-INTERVAL;VALUE=DURATION:PT1H
X-Robots-Tag:noindex
X-PUBLISHED-TTL:PT1H
BEGIN:VTIMEZONE
TZID:America/New_York
BEGIN:DAYLIGHT
TZOFFSETFROM:-0500
TZOFFSETTO:-0400
TZNAME:EDT
DTSTART:20220313T070000
END:DAYLIGHT
BEGIN:STANDARD
TZOFFSETFROM:-0400
TZOFFSETTO:-0500
TZNAME:EST
DTSTART:20221106T060000
END:STANDARD
BEGIN:DAYLIGHT
TZOFFSETFROM:-0500
TZOFFSETTO:-0400
TZNAME:EDT
DTSTART:20230312T070000
END:DAYLIGHT
BEGIN:STANDARD
TZOFFSETFROM:-0400
TZOFFSETTO:-0500
TZNAME:EST
DTSTART:20231105T060000
END:STANDARD
BEGIN:DAYLIGHT
TZOFFSETFROM:-0500
TZOFFSETTO:-0400
TZNAME:EDT
DTSTART:20240310T070000
END:DAYLIGHT
BEGIN:STANDARD
TZOFFSETFROM:-0400
TZOFFSETTO:-0500
TZNAME:EST
DTSTART:20241103T060000
END:STANDARD
END:VTIMEZONE
BEGIN:VEVENT
DTSTART;VALUE=DATE:20231114
DTEND;VALUE=DATE:20231115
DTSTAMP:20260420T194306
CREATED:20230706T183522Z
LAST-MODIFIED:20230706T183522Z
UID:3931-1699920000-1700006399@scspe.org
SUMMARY:SC Board of Registration for Engineering and Surveying Meeting
DESCRIPTION:Kinstree Bldg.\, room 105 9:30AM  – 5:00 PM
URL:https://scspe.org/event/sc-board-of-registration-for-engineering-and-surveying-meeting-3/
END:VEVENT
BEGIN:VEVENT
DTSTART;TZID=America/New_York:20231114T080000
DTEND;TZID=America/New_York:20231114T170000
DTSTAMP:20260420T194306
CREATED:20230706T183551Z
LAST-MODIFIED:20230706T183551Z
UID:3933-1699948800-1699981200@scspe.org
SUMMARY:SCCESS Dinner w/ SC Registration Board (Tentative)
DESCRIPTION:
URL:https://scspe.org/event/sccess-dinner-w-sc-registration-board-tentative-2/
END:VEVENT
END:VCALENDAR