BEGIN:VCALENDAR
VERSION:2.0
PRODID:-//South Carolina Society of Professional Engineers - ECPv6.15.20//NONSGML v1.0//EN
CALSCALE:GREGORIAN
METHOD:PUBLISH
X-ORIGINAL-URL:https://scspe.org
X-WR-CALDESC:Events for South Carolina Society of Professional Engineers
REFRESH-INTERVAL;VALUE=DURATION:PT1H
X-Robots-Tag:noindex
X-PUBLISHED-TTL:PT1H
BEGIN:VTIMEZONE
TZID:America/New_York
BEGIN:DAYLIGHT
TZOFFSETFROM:-0500
TZOFFSETTO:-0400
TZNAME:EDT
DTSTART:20220313T070000
END:DAYLIGHT
BEGIN:STANDARD
TZOFFSETFROM:-0400
TZOFFSETTO:-0500
TZNAME:EST
DTSTART:20221106T060000
END:STANDARD
BEGIN:DAYLIGHT
TZOFFSETFROM:-0500
TZOFFSETTO:-0400
TZNAME:EDT
DTSTART:20230312T070000
END:DAYLIGHT
BEGIN:STANDARD
TZOFFSETFROM:-0400
TZOFFSETTO:-0500
TZNAME:EST
DTSTART:20231105T060000
END:STANDARD
BEGIN:DAYLIGHT
TZOFFSETFROM:-0500
TZOFFSETTO:-0400
TZNAME:EDT
DTSTART:20240310T070000
END:DAYLIGHT
BEGIN:STANDARD
TZOFFSETFROM:-0400
TZOFFSETTO:-0500
TZNAME:EST
DTSTART:20241103T060000
END:STANDARD
END:VTIMEZONE
BEGIN:VEVENT
DTSTART;TZID=America/New_York:20230202T103000
DTEND;TZID=America/New_York:20230222T120000
DTSTAMP:20260421T112556
CREATED:20230202T185952Z
LAST-MODIFIED:20230202T190104Z
UID:3841-1675333800-1677067200@scspe.org
SUMMARY:Engineers' Day on The Hill
DESCRIPTION:RSVP here.
URL:https://scspe.org/event/engineers-day-on-the-hill/
LOCATION:South Carolina State House\, 1100 Gervais Street\, Columbia\, 29201\, United States
END:VEVENT
BEGIN:VEVENT
DTSTART;VALUE=DATE:20230206
DTEND;VALUE=DATE:20230207
DTSTAMP:20260421T112556
CREATED:20220805T104108Z
LAST-MODIFIED:20220805T104130Z
UID:3706-1675641600-1675727999@scspe.org
SUMMARY:SCSPE Columbia Chapter Meeting (or during E-Week)
DESCRIPTION:
URL:https://scspe.org/event/scspe-columbia-chapter-meeting-3/
END:VEVENT
END:VCALENDAR