BEGIN:VCALENDAR
VERSION:2.0
PRODID:-//South Carolina Society of Professional Engineers - ECPv6.15.20//NONSGML v1.0//EN
CALSCALE:GREGORIAN
METHOD:PUBLISH
X-WR-CALNAME:South Carolina Society of Professional Engineers
X-ORIGINAL-URL:https://scspe.org
X-WR-CALDESC:Events for South Carolina Society of Professional Engineers
REFRESH-INTERVAL;VALUE=DURATION:PT1H
X-Robots-Tag:noindex
X-PUBLISHED-TTL:PT1H
BEGIN:VTIMEZONE
TZID:America/New_York
BEGIN:DAYLIGHT
TZOFFSETFROM:-0500
TZOFFSETTO:-0400
TZNAME:EDT
DTSTART:20210314T070000
END:DAYLIGHT
BEGIN:STANDARD
TZOFFSETFROM:-0400
TZOFFSETTO:-0500
TZNAME:EST
DTSTART:20211107T060000
END:STANDARD
BEGIN:DAYLIGHT
TZOFFSETFROM:-0500
TZOFFSETTO:-0400
TZNAME:EDT
DTSTART:20220313T070000
END:DAYLIGHT
BEGIN:STANDARD
TZOFFSETFROM:-0400
TZOFFSETTO:-0500
TZNAME:EST
DTSTART:20221106T060000
END:STANDARD
BEGIN:DAYLIGHT
TZOFFSETFROM:-0500
TZOFFSETTO:-0400
TZNAME:EDT
DTSTART:20230312T070000
END:DAYLIGHT
BEGIN:STANDARD
TZOFFSETFROM:-0400
TZOFFSETTO:-0500
TZNAME:EST
DTSTART:20231105T060000
END:STANDARD
END:VTIMEZONE
BEGIN:VEVENT
DTSTART;VALUE=DATE:20221101
DTEND;VALUE=DATE:20221102
DTSTAMP:20260421T202118
CREATED:20220805T102511Z
LAST-MODIFIED:20220805T102511Z
UID:3671-1667260800-1667347199@scspe.org
SUMMARY:SCCESS Dinner w/ SC Registration Board Tentative
DESCRIPTION:
URL:https://scspe.org/event/sccess-dinner-w-sc-registration-board-tentative/
END:VEVENT
BEGIN:VEVENT
DTSTART;TZID=America/New_York:20221101T093000
DTEND;TZID=America/New_York:20221101T170000
DTSTAMP:20260421T202118
CREATED:20220805T102401Z
LAST-MODIFIED:20220805T102401Z
UID:3667-1667295000-1667322000@scspe.org
SUMMARY:SC Board of Registration for Engineering and Surveying Meeting
DESCRIPTION:
URL:https://scspe.org/event/sc-board-of-registration-for-engineering-and-surveying-meeting/
LOCATION:Synergy Business Park – Kingstree Building\, Suite 105\, 110 Centerview Drive\, Columbia\, SC\, 29210\, United States
END:VEVENT
END:VCALENDAR